BEGIN:VCALENDAR
VERSION:2.0
PRODID:-//The Leros Way - ECPv6.15.20//NONSGML v1.0//EN
CALSCALE:GREGORIAN
METHOD:PUBLISH
X-WR-CALNAME:The Leros Way
X-ORIGINAL-URL:https://the-leros-way.com
X-WR-CALDESC:Events for The Leros Way
REFRESH-INTERVAL;VALUE=DURATION:PT1H
X-Robots-Tag:noindex
X-PUBLISHED-TTL:PT1H
BEGIN:VTIMEZONE
TZID:UTC
BEGIN:STANDARD
TZOFFSETFROM:+0000
TZOFFSETTO:+0000
TZNAME:UTC
DTSTART:20240101T000000
END:STANDARD
END:VTIMEZONE
BEGIN:VEVENT
DTSTART;TZID=UTC:20250703T190000
DTEND;TZID=UTC:20250709T233000
DTSTAMP:20260425T203012
CREATED:20250703T110612Z
LAST-MODIFIED:20250703T110614Z
UID:49271-1751569200-1752103800@the-leros-way.com
SUMMARY:Movie of the Week: F1
DESCRIPTION:FROM THURSDAY 3/7 TO WEDNESDAY 9/7daily\, starting times: 19:00 & 21:30
URL:https://the-leros-way.com/event/movie-of-the-week-f1/
LOCATION:Leros Cinema\, Municipal Cinema Leros\, Leros\, 85400\, Greece
CATEGORIES:Leros Cinema,Movie
ATTACH;FMTTYPE=image/webp:https://the-leros-way.com/wp-content/uploads/2025/07/514573694_1471137784289265_7886609333618059598_n.webp
ORGANIZER;CN="Cine Leros":MAILTO:leros-cinema@leros.gr
END:VEVENT
BEGIN:VEVENT
DTSTART;TZID=UTC:20250618T183000
DTEND;TZID=UTC:20250618T200000
DTSTAMP:20260425T203012
CREATED:20250618T084342Z
LAST-MODIFIED:20251024T113611Z
UID:48920-1750271400-1750276800@the-leros-way.com
SUMMARY:Dance like the locals
DESCRIPTION:Feel the Rhythms of Leros — Get Ready for the Next Local Festival \nIf you want to feel the true rhythms of Leros — and join the circle of dance at the island’s joyful local festivals (panigiria) — come dance with us! \nIn this Traditional Dance Workshop\, you’ll learn the unique local dances of Leros\, with music you won’t hear anywhere else. We’ll move to the special rhythms of Lerian songs and learn classic island dances like Leriko\, Sirtos\, and Sousta — starting from the basics and building up at your own pace. \nNo experience needed — just bring your feet and your curiosity. \nLanguages: English \nWhat to bring: Comfortable shoes and your best post-beach energy \nPrice: €10. Discounts available for groups of more than 4 or when booking multiple sessions — contact us to schedule and ask about group rates or session packages! \nWhere: The Leros Way Hub\, Lakki (come a few minutes early to get settled). Get directions here. \n  \nComing with friends or want a private dance lesson? Let us know — we’d love to make it a celebration just for you. \nHow to secure your spot in this workshop? \nChoose the option that works best for you: \n\nRegister online here\nSend us a message on  WhatsApp or email us at info@the-leros-way.com\nVisit us at The Leros Way Hub to register.
URL:https://the-leros-way.com/event/dance-like-the-locals-14/
LOCATION:The Leros Way Hub\, The Leros Way Hub\, Leros\, 85400\, Greece
CATEGORIES:Workshop
ATTACH;FMTTYPE=image/webp:https://the-leros-way.com/wp-content/uploads/2024/02/local-dances.webp
ORGANIZER;CN="The Leros Way":MAILTO:info@the-leros-way.com
END:VEVENT
BEGIN:VEVENT
DTSTART;TZID=UTC:20250709T190000
DTEND;TZID=UTC:20250709T233000
DTSTAMP:20260425T203012
CREATED:20250708T090220Z
LAST-MODIFIED:20250708T090221Z
UID:49311-1752087600-1752103800@the-leros-way.com
SUMMARY:Sushi Night at Navarone
DESCRIPTION:Next to the port of Agia Marina\, right by the water\, where the sunset paints the perfect background \nJoin for fresh sushi and handcrafted Japanese cocktails\, paired to elevate each flavor. \nA unique summer ritual\, with flavors from Tokyo and views from the Aegean. \nCall to reserve your table at +30 2247025074
URL:https://the-leros-way.com/event/sushi-night-at-navarone/
LOCATION:Navarone Estate\, Navarone\, Leros\, Dodecanese\, 85400\, Greece
CATEGORIES:Special Event
ATTACH;FMTTYPE=image/webp:https://the-leros-way.com/wp-content/uploads/2025/07/872b2e73-0185-4a64-9c18-278a72fb7c7e.webp
END:VEVENT
BEGIN:VEVENT
DTSTART;TZID=UTC:20250709T193000
DTEND;TZID=UTC:20250709T210000
DTSTAMP:20260425T203012
CREATED:20250616T122350Z
LAST-MODIFIED:20250616T122743Z
UID:48707-1752089400-1752094800@the-leros-way.com
SUMMARY:Book presentation by Maria Mamaliga
DESCRIPTION:Book presentation by Mrs. Maria Mamaliga titled: ‘Mercanto’. \nAbout the book: The novella Mercanto\, from the Judeo-Spanish word for one who was ransomed by the Angel of Death\, attempts to highlight the depth and timelessness of these questions\, through the journey of a seventeen-year-old Sephardic girl living in the closed Jewish community of Rhodes during the Italian and German occupation. Later\, from Marmaris\, to post-war Istanbul and Ashdod\, the heroine searches for traces of her family\, who have now been lost in Auschwitz\, as well as for the threads that will weave her new\, adult self. \nFree admission.
URL:https://the-leros-way.com/event/book-presentation-by-maria-mamaliga/
LOCATION:Municipal Library\, Δημόσια Βιβλιοθήκη Λέρου\, Leros\, 85400\, Greece
CATEGORIES:Book Launch,Italian Culture Association
ATTACH;FMTTYPE=image/webp:https://the-leros-way.com/wp-content/uploads/2025/06/Mamalinga_CoverFB.webp
ORGANIZER;CN="Greek-Italian Association of Friends of Leros %E2%80%9CAIAL%E2%80%9D":MAILTO:petrokaravo@yahoo.it
END:VEVENT
END:VCALENDAR