BEGIN:VCALENDAR
VERSION:2.0
PRODID:-//The Leros Way - ECPv6.15.13.1//NONSGML v1.0//EN
CALSCALE:GREGORIAN
METHOD:PUBLISH
X-ORIGINAL-URL:https://the-leros-way.com
X-WR-CALDESC:Events for The Leros Way
REFRESH-INTERVAL;VALUE=DURATION:PT1H
X-Robots-Tag:noindex
X-PUBLISHED-TTL:PT1H
BEGIN:VTIMEZONE
TZID:UTC
BEGIN:STANDARD
TZOFFSETFROM:+0000
TZOFFSETTO:+0000
TZNAME:UTC
DTSTART:20240101T000000
END:STANDARD
END:VTIMEZONE
BEGIN:VEVENT
DTSTART;VALUE=DATE:20250618
DTEND;VALUE=DATE:20250702
DTSTAMP:20260421T205753
CREATED:20250618T135009Z
LAST-MODIFIED:20250618T135010Z
UID:48976-1750204800-1751414399@the-leros-way.com
SUMMARY:Leropa League: 5x5 Tournament
DESCRIPTION:Registrations for the annual Leropa League (Summer Tournament 2025) are open until the 27th of June. \nFirst game at 1st July.The winners will get prizes\, which will be announced before the start of the championship. \nThe proceeds will be donated to families in need on the island. \nFor information and registrations: +306944821861
URL:https://the-leros-way.com/event/leropa-league-5x5-tournament/
CATEGORIES:Sport
ATTACH;FMTTYPE=image/webp:https://the-leros-way.com/wp-content/uploads/2025/06/444790859_7872527736146474_8400402631725686174_n.webp
END:VEVENT
BEGIN:VEVENT
DTSTART;VALUE=DATE:20250626
DTEND;VALUE=DATE:20250703
DTSTAMP:20260421T205753
CREATED:20240609T144021Z
LAST-MODIFIED:20250617T100659Z
UID:41116-1750896000-1751500799@the-leros-way.com
SUMMARY:The Leros Humanism Seminars
DESCRIPTION:A series of humanitarian seminars led by the Greek professors of Columbia University of N.Y.\, Neni Panourgia and Stathis Gourgouris. \nhttps://leros-humanism-seminars.com/
URL:https://the-leros-way.com/event/the-leros-humanism-seminars/
LOCATION:Agia Marina Elementary School\, «ΝΙΚΟΛΑΪΔΕΙΟ» ΔΗΜΟΤΙΚΟ ΣΧΟΛΕΙΟ ΑΓΙΑΣ ΜΑΡΙΝΑΣ ΛΕΡΟΥ\, Leros\, 85400\, Greece
CATEGORIES:Seminars
ATTACH;FMTTYPE=image/webp:https://the-leros-way.com/wp-content/uploads/2024/06/449092621_10232605290064909_5507589484241573318_n.webp
ORGANIZER;CN="Artemis":MAILTO:artemis@leros.com
END:VEVENT
BEGIN:VEVENT
DTSTART;VALUE=DATE:20250626
DTEND;VALUE=DATE:20250703
DTSTAMP:20260421T205753
CREATED:20250627T110409Z
LAST-MODIFIED:20250627T110411Z
UID:49133-1750896000-1751500799@the-leros-way.com
SUMMARY:Movie of the week: 28 YEARS LATER
DESCRIPTION:THURSDAY 26/6 – WEDNESDAY 2/7 \n28 YEARS LATER: daily start times at 19:30 & 21:30
URL:https://the-leros-way.com/event/movie-of-the-week-28-years-later/
LOCATION:Leros Cinema\, Municipal Cinema Leros\, Leros\, 85400\, Greece
CATEGORIES:Leros Cinema,Movie
ATTACH;FMTTYPE=image/webp:https://the-leros-way.com/wp-content/uploads/2025/06/512701696_1465169041552806_8194277684043084401_n.webp
ORGANIZER;CN="Cine Leros":MAILTO:leros-cinema@leros.gr
END:VEVENT
BEGIN:VEVENT
DTSTART;VALUE=DATE:20250628
DTEND;VALUE=DATE:20250707
DTSTAMP:20260421T205753
CREATED:20250611T133325Z
LAST-MODIFIED:20250704T102834Z
UID:48567-1751068800-1751846399@the-leros-way.com
SUMMARY:Nautical Week
DESCRIPTION:A series of events dedicated to those who safeguard the freedom\, security\, tradition\, and future of Greece. \nProgram: \n\n28-06-2025 at 20:30\n“The Sponge Divers of the Aegean: A Dive into Memory”\, by the Leros Association of Asia Minor Greeks. At the Agia Marina Primary School.\n29-06-2025 at 10:00 a.m.\nBeach and coastal cleanup along the Lakki road axis\, organized by the 3rd Leros Sea Scout Unit and volunteers.\n29-06-2025 at 18:00\nStreet tennis matches organized by the Leros Tennis Club “IONES”. In Lakki – A/T V. “OLGA” Monument.\n29-06-2025 at 20:00\nConcert organized by the Center for Research\, Culture and Development “ARTEMIS”. In Lakki – A/T V. “OLGA” Monument.\n02-07-2025 at 20:00\nLecture on the role of the Merchant Navy in the Greek Revolution of 1821\, as well as the naval battles of Kos–Halicarnassus and Gerontas Bay\, presented by the G.A.K. Local Historical Archive of Leros. At the Leros Sailing Club.\n05-07-2025 and 06-07-2025 from 10:00 to 12:00 p.m.\nIntroductory sailing activity organized by the Leros Sailing Club.\n06-07-2025 at 21:00\nChoir performance titled “200 Years of Greek Song” by the Leros Association of Asia Minor Greeks\, at the Agia Marina Primary School.\n\nhttps://ne2025.hellenicnavy.gr/
URL:https://the-leros-way.com/event/nautical-week/
CATEGORIES:Artemis Centre for Culture,Concert Show,Exhibition,Sailing Event,Sport
ATTACH;FMTTYPE=image/webp:https://the-leros-way.com/wp-content/uploads/2025/06/social-card.webp
END:VEVENT
BEGIN:VEVENT
DTSTART;TZID=UTC:20250617T183000
DTEND;TZID=UTC:20250617T194500
DTSTAMP:20260421T205753
CREATED:20250606T075815Z
LAST-MODIFIED:20251024T113743Z
UID:48467-1750185000-1750189500@the-leros-way.com
SUMMARY:Greek Lesson #1 - Greet in Greek
DESCRIPTION:If you’ve ever wanted to say more than just “hello” in Greek — or respond with confidence when someone greets you — this is the perfect place to start. \n“Greet in Greek” is part of our series of short\, practical Greek sessions designed especially for travelers. Each one is focused on a specific\, useful topic to help you feel more connected during your time on Leros. You can join just one session\, pick the topics that interest you most\, or come to all four — it’s totally up to you! \nThis session is all about greetings and small talk. In Greece\, how you say “hello” changes with the time of day\, the place\, and the person — and once you get the hang of it\, these little exchanges can turn into real moments of connection with locals. \nWhat you’ll learn:\n\nHow to greet like a local at any time of day\nHow to respond and have small talk with locals\nCultural tips to help you feel more at home\n\nIt’s casual\, fun\, and practical — no grammar rules\, just everyday words and phrases you’ll actually use. And to help you remember\, you’ll take home a handy cheat sheet with key phrases to keep in your pocket. \nSession Duration: 1.5 hours \nWhere: The Leros Way Hub\, Lakki. Get directions here. \nWhat to bring: A pen\, a notebook\, your questions\, and your best smile \nPrice: €12 per person. Discounts available for groups of more than 4 or when booking multiple Greek sessions — contact us to schedule and ask about group rates or session packages! \n\nHow to Secure Your Spot in This Workshop?\nChoose the option that works best for you: \n\nRegister online here\nSend us a message on WhatsApp\nVisit us at The Leros Way Hub\n\n  \nThis is one of four Quick Greek sessions:\nSession #1 – Greet in Greek \nLearn how to greet\, respond\, and make small talk with locals any time of day. Secure your spot here. \nSession #2 – Greek Groceries \nPick up the phrases you need to shop confidently in local markets and stores. Secure your spot here. \nSession #3 – Taverna Talk \nMaster how to read a menu\, talk to staff\, and order like a local in a Greek taverna. Secure your spot here. \nSession #4 – Getting Around \nLearn to ask for directions\, understand signs\, and use local transport with ease. Secure your spot here. \n\nInterested in joining all four sessions? \nLet us know — we’d love to offer you a special price for the full experience.
URL:https://the-leros-way.com/event/greek-lesson-1-greet-in-greek-2/
LOCATION:The Leros Way Hub\, The Leros Way Hub\, Leros\, 85400\, Greece
CATEGORIES:Workshop
ATTACH;FMTTYPE=image/webp:https://the-leros-way.com/wp-content/uploads/2025/05/mousaka-3-1.webp
ORGANIZER;CN="The Leros Way":MAILTO:info@the-leros-way.com
END:VEVENT
END:VCALENDAR