BEGIN:VCALENDAR
VERSION:2.0
PRODID:-//The Leros Way - ECPv6.15.13.1//NONSGML v1.0//EN
CALSCALE:GREGORIAN
METHOD:PUBLISH
X-ORIGINAL-URL:https://the-leros-way.com
X-WR-CALDESC:Events for The Leros Way
REFRESH-INTERVAL;VALUE=DURATION:PT1H
X-Robots-Tag:noindex
X-PUBLISHED-TTL:PT1H
BEGIN:VTIMEZONE
TZID:UTC
BEGIN:STANDARD
TZOFFSETFROM:+0000
TZOFFSETTO:+0000
TZNAME:UTC
DTSTART:20240101T000000
END:STANDARD
END:VTIMEZONE
BEGIN:VEVENT
DTSTART;VALUE=DATE:20250618
DTEND;VALUE=DATE:20250702
DTSTAMP:20260423T105836
CREATED:20250618T135009Z
LAST-MODIFIED:20250618T135010Z
UID:48976-1750204800-1751414399@the-leros-way.com
SUMMARY:Leropa League: 5x5 Tournament
DESCRIPTION:Registrations for the annual Leropa League (Summer Tournament 2025) are open until the 27th of June. \nFirst game at 1st July.The winners will get prizes\, which will be announced before the start of the championship. \nThe proceeds will be donated to families in need on the island. \nFor information and registrations: +306944821861
URL:https://the-leros-way.com/event/leropa-league-5x5-tournament/
CATEGORIES:Sport
ATTACH;FMTTYPE=image/webp:https://the-leros-way.com/wp-content/uploads/2025/06/444790859_7872527736146474_8400402631725686174_n.webp
END:VEVENT
BEGIN:VEVENT
DTSTART;TZID=UTC:20250619T190000
DTEND;TZID=UTC:20250625T213000
DTSTAMP:20260423T105836
CREATED:20250619T104538Z
LAST-MODIFIED:20250619T104540Z
UID:48988-1750359600-1750887000@the-leros-way.com
SUMMARY:Movie of the week: HOW TO TRAIN YOUR DRAGON (gr dubbed)
DESCRIPTION:FROM THURSDAY 19/6 TO WEDNESDAY 25/6 \nDubbed in Greek \nDaily at 19:00Saturday at 18:30
URL:https://the-leros-way.com/event/movie-of-the-week-how-to-train-your-dragon-gr-dubbed/
LOCATION:Leros Cinema\, Municipal Cinema Leros\, Leros\, 85400\, Greece
CATEGORIES:Leros Cinema,Movie
ATTACH;FMTTYPE=image/jpeg:https://the-leros-way.com/wp-content/uploads/2025/06/508847368_1459368852132825_4090410412630421677_n.jpg
ORGANIZER;CN="Cine Leros":MAILTO:leros-cinema@leros.gr
END:VEVENT
BEGIN:VEVENT
DTSTART;TZID=UTC:20250619T210000
DTEND;TZID=UTC:20250625T233000
DTSTAMP:20260423T105836
CREATED:20250619T104127Z
LAST-MODIFIED:20250619T104130Z
UID:48983-1750366800-1750894200@the-leros-way.com
SUMMARY:Movie of the week: THE RITE
DESCRIPTION:FROM THURSDAY 19/6 TO WEDNESDAY 25/6THE RITE: Daily at 21:15(Saturday late-night screening at 23:00)
URL:https://the-leros-way.com/event/movie-of-the-week-the-rite/
LOCATION:Leros Cinema\, Municipal Cinema Leros\, Leros\, 85400\, Greece
CATEGORIES:Leros Cinema,Movie
ATTACH;FMTTYPE=image/webp:https://the-leros-way.com/wp-content/uploads/2025/06/509626766_1459368798799497_5667618912386879538_n.webp
ORGANIZER;CN="Cine Leros":MAILTO:leros-cinema@leros.gr
END:VEVENT
BEGIN:VEVENT
DTSTART;TZID=UTC:20250618T183000
DTEND;TZID=UTC:20250618T200000
DTSTAMP:20260423T105836
CREATED:20250618T084342Z
LAST-MODIFIED:20251024T113611Z
UID:48920-1750271400-1750276800@the-leros-way.com
SUMMARY:Dance like the locals
DESCRIPTION:Feel the Rhythms of Leros — Get Ready for the Next Local Festival \nIf you want to feel the true rhythms of Leros — and join the circle of dance at the island’s joyful local festivals (panigiria) — come dance with us! \nIn this Traditional Dance Workshop\, you’ll learn the unique local dances of Leros\, with music you won’t hear anywhere else. We’ll move to the special rhythms of Lerian songs and learn classic island dances like Leriko\, Sirtos\, and Sousta — starting from the basics and building up at your own pace. \nNo experience needed — just bring your feet and your curiosity. \nLanguages: English \nWhat to bring: Comfortable shoes and your best post-beach energy \nPrice: €10. Discounts available for groups of more than 4 or when booking multiple sessions — contact us to schedule and ask about group rates or session packages! \nWhere: The Leros Way Hub\, Lakki (come a few minutes early to get settled). Get directions here. \n  \nComing with friends or want a private dance lesson? Let us know — we’d love to make it a celebration just for you. \nHow to secure your spot in this workshop? \nChoose the option that works best for you: \n\nRegister online here\nSend us a message on  WhatsApp or email us at info@the-leros-way.com\nVisit us at The Leros Way Hub to register.
URL:https://the-leros-way.com/event/dance-like-the-locals-14/
LOCATION:The Leros Way Hub\, The Leros Way Hub\, Leros\, 85400\, Greece
CATEGORIES:Workshop
ATTACH;FMTTYPE=image/webp:https://the-leros-way.com/wp-content/uploads/2024/02/local-dances.webp
ORGANIZER;CN="The Leros Way":MAILTO:info@the-leros-way.com
END:VEVENT
END:VCALENDAR