BEGIN:VCALENDAR
VERSION:2.0
PRODID:-//The Leros Way - ECPv6.15.20//NONSGML v1.0//EN
CALSCALE:GREGORIAN
METHOD:PUBLISH
X-WR-CALNAME:The Leros Way
X-ORIGINAL-URL:https://the-leros-way.com
X-WR-CALDESC:Events for The Leros Way
REFRESH-INTERVAL;VALUE=DURATION:PT1H
X-Robots-Tag:noindex
X-PUBLISHED-TTL:PT1H
BEGIN:VTIMEZONE
TZID:UTC
BEGIN:STANDARD
TZOFFSETFROM:+0000
TZOFFSETTO:+0000
TZNAME:UTC
DTSTART:20240101T000000
END:STANDARD
END:VTIMEZONE
BEGIN:VEVENT
DTSTART;TZID=UTC:20250611T183000
DTEND;TZID=UTC:20250615T213000
DTSTAMP:20260423T145248
CREATED:20250605T143605Z
LAST-MODIFIED:20250610T131317Z
UID:48298-1749666600-1750023000@the-leros-way.com
SUMMARY:3rd International Symposium - Traditional Mediterranean Lifestyle: Health Effects and Longevity
DESCRIPTION:This year’s Symposium by the Mediterranean Lifestyle Medicine Institute will explore the enduring impact of the traditional Mediterranean lifestyle on health outcomes and longevity. \nThe event will officially open on Wednesday\, June 11 at 6:30 p.m. with a keynote lecture by Professor Labros Sidossis\, President of the Institute\, titled: “Do We Have Free Will? The Illusion of Choices” \nThe lecture will be conducted in English\, and is free and open to the public. \nAbout the Lecture: Do we really have free will? Are we truly free to act as we want—or even to want what we want? \nIn both modern society and medical science\, the dominant narrative assumes individuals have full autonomy in making health-related choices. This view suggests that people make decisions independently\, unaffected by external—or more subtly\, internal—constraints. Consequently\, we are considered entirely responsible for our actions\, whether they lead to health\, illness\, success\, or failure. \nIn this compelling and thought-provoking presentation\, Professor Sidossis will challenge this assumption by examining how the idea of free will influences personal relationships\, professional behavior\, legal responsibility\, and public health strategies. He will also explore how biological and psychological factors can limit human choice—and what this means for how we view autonomy and accountability. The lecture invites participants to rethink deeply held beliefs about personal freedom and responsibility\, particularly as they relate to health\, well-being\, and the pursuit of a meaningful life. \nFor more information: medlifestyle.org
URL:https://the-leros-way.com/event/3rd-international-symposium-traditional-mediterranean-lifestyle-health-effects-and-longevity/
LOCATION:Crithoni’s Paradise\, Chritoni paradise\, Leros\, 85400\, Greece
CATEGORIES:Conference,Lecture,Seminars
ATTACH;FMTTYPE=image/png:https://the-leros-way.com/wp-content/uploads/2025/06/viber_image_2025-06-02_17-58-13-476.png
END:VEVENT
BEGIN:VEVENT
DTSTART;TZID=UTC:20250605T180000
DTEND;TZID=UTC:20250605T200000
DTSTAMP:20260423T145249
CREATED:20250512T063109Z
LAST-MODIFIED:20251003T085718Z
UID:47249-1749146400-1749153600@the-leros-way.com
SUMMARY:Wine Tasting - Walk Through the Vines
DESCRIPTION:An introduction to the wines and vineyards of Leros \nIf you want to discover how great wine begins — from the soil\, the sun\, and the sea — this is the perfect experience for you. \nJoin our winemaker for a walk through the vineyard\, where you’ll learn about the local grape varieties\, the traditions of Aegean winemaking\, and how the island’s unique climate shapes each bottle. \nAfter the tour\, we’ll sit down to taste five of our wines\, accompanied by a generous platter of cheeses\, cold cuts\, olives\, and traditional Greek tapas — served family-style. \nThis tasting is ideal for those curious about wine and the story behind it. \nHighlights: \n\nA 45-minute guided vineyard tour\nTasting of 5 wines (40 ml each)\nLight Greek food platters to share\n\nLed by the winemaker in English or Greek \nPrice: €42 per person. Discounts available for groups of more than 4 — just give us a call to schedule and ask about group rates! \nHow to Secure Your Spot in This Workshop?\nChoose the option that works best for you: \nRegister online here \nSend us a message on WhatsApp \nVisit us at The Leros Way Hub \n  \nThis workshop is organized and delivered by ‘Isichi Ampelones’ winery. For any questions or further information\, please contact them directly at (+30) 697 3956 270 or email: efdrossou@hotmail.com
URL:https://the-leros-way.com/event/wine-tasting-walk-through-the-vines/
LOCATION:‘Isichi Ampelones’ winery\, 5RMF+6M Partheni\, Leros\, 85400\, Greece
CATEGORIES:Workshop
ATTACH;FMTTYPE=image/webp:https://the-leros-way.com/wp-content/uploads/2025/05/Winery1.webp
ORGANIZER;CN="%E2%80%98Isichi Ampelones%E2%80%99 winery":MAILTO:efdrossou@hotmail.com
END:VEVENT
BEGIN:VEVENT
DTSTART;TZID=UTC:20250612T193000
DTEND;TZID=UTC:20250618T230000
DTSTAMP:20260423T145249
CREATED:20250613T090709Z
LAST-MODIFIED:20250613T090711Z
UID:48622-1749756600-1750287600@the-leros-way.com
SUMMARY:Movie of the week: THE PHOENICIAN SCHEME
DESCRIPTION:FROM THURSDAY 12/6 UNTIL WEDNESDAY 18/6\nEvery day 19:30 & 21:15
URL:https://the-leros-way.com/event/movie-of-the-week-the-phoenician-scheme/
LOCATION:Leros Cinema\, Municipal Cinema Leros\, Leros\, 85400\, Greece
CATEGORIES:Leros Cinema,Movie
ATTACH;FMTTYPE=image/webp:https://the-leros-way.com/wp-content/uploads/2025/06/viber_image_2025-06-13_10-44-39-601.webp
ORGANIZER;CN="Cine Leros":MAILTO:leros-cinema@leros.gr
END:VEVENT
END:VCALENDAR