BEGIN:VCALENDAR
VERSION:2.0
PRODID:-//The Leros Way - ECPv6.15.13.1//NONSGML v1.0//EN
CALSCALE:GREGORIAN
METHOD:PUBLISH
X-WR-CALNAME:The Leros Way
X-ORIGINAL-URL:https://the-leros-way.com
X-WR-CALDESC:Events for The Leros Way
REFRESH-INTERVAL;VALUE=DURATION:PT1H
X-Robots-Tag:noindex
X-PUBLISHED-TTL:PT1H
BEGIN:VTIMEZONE
TZID:UTC
BEGIN:STANDARD
TZOFFSETFROM:+0000
TZOFFSETTO:+0000
TZNAME:UTC
DTSTART:20240101T000000
END:STANDARD
END:VTIMEZONE
BEGIN:VEVENT
DTSTART;TZID=UTC:20250522T173000
DTEND;TZID=UTC:20250528T190000
DTSTAMP:20260421T161557
CREATED:20250522T092600Z
LAST-MODIFIED:20250522T092602Z
UID:47937-1747935000-1748458800@the-leros-way.com
SUMMARY:Movie of the week: LILO & STITCH (greek sound)
DESCRIPTION:Thursday 22/5 – Wednesday 28/5 \nThursday – Sunday 17:30 & 19:15 \nMonday – Wednesday 18:00
URL:https://the-leros-way.com/event/movie-of-the-week-lilo-stitch-greek-sound/
LOCATION:Leros Cinema\, Municipal Cinema Leros\, Leros\, 85400\, Greece
CATEGORIES:Leros Cinema,Movie
ATTACH;FMTTYPE=image/webp:https://the-leros-way.com/wp-content/uploads/2025/05/viber_image_2025-05-21_20-01-19-046.webp
ORGANIZER;CN="Cine Leros":MAILTO:leros-cinema@leros.gr
END:VEVENT
BEGIN:VEVENT
DTSTART;TZID=UTC:20250522T203000
DTEND;TZID=UTC:20250604T233000
DTSTAMP:20260421T161557
CREATED:20250522T090858Z
LAST-MODIFIED:20250529T141441Z
UID:47931-1747945800-1749079800@the-leros-way.com
SUMMARY:Movie of the week: MISSION IMPOSSIBLE – THE FINAL RECKONING
DESCRIPTION:Thursday 29/5 – Wednesday 4/6 21:15 \n  \n 
URL:https://the-leros-way.com/event/movie-of-the-week-mission-impossible-the-final-reckoning/
LOCATION:Leros Cinema\, Municipal Cinema Leros\, Leros\, 85400\, Greece
CATEGORIES:Leros Cinema,Movie
ATTACH;FMTTYPE=image/webp:https://the-leros-way.com/wp-content/uploads/2025/05/mission.webp
ORGANIZER;CN="Cine Leros":MAILTO:leros-cinema@leros.gr
END:VEVENT
END:VCALENDAR