BEGIN:VCALENDAR
VERSION:2.0
PRODID:-//The Leros Way - ECPv6.15.13.1//NONSGML v1.0//EN
CALSCALE:GREGORIAN
METHOD:PUBLISH
X-WR-CALNAME:The Leros Way
X-ORIGINAL-URL:https://the-leros-way.com
X-WR-CALDESC:Events for The Leros Way
REFRESH-INTERVAL;VALUE=DURATION:PT1H
X-Robots-Tag:noindex
X-PUBLISHED-TTL:PT1H
BEGIN:VTIMEZONE
TZID:UTC
BEGIN:STANDARD
TZOFFSETFROM:+0000
TZOFFSETTO:+0000
TZNAME:UTC
DTSTART:20240101T000000
END:STANDARD
END:VTIMEZONE
BEGIN:VEVENT
DTSTART;TZID=UTC:20250424T173000
DTEND;TZID=UTC:20250430T170000
DTSTAMP:20260421T175755
CREATED:20250424T085246Z
LAST-MODIFIED:20250424T085247Z
UID:46792-1745515800-1746032400@the-leros-way.com
SUMMARY:Movie of the week: BIG TRIP 3 - RACE AROUND THE WORLD
DESCRIPTION:Thursday 24/4 – Wednesday 30/4 \nEvery day at 17:30 (in Greek)
URL:https://the-leros-way.com/event/movie-of-the-week-big-trip-3-race-around-the-world/
LOCATION:Leros Cinema\, Municipal Cinema Leros\, Leros\, 85400\, Greece
CATEGORIES:Movie
ATTACH;FMTTYPE=image/webp:https://the-leros-way.com/wp-content/uploads/2025/04/viber_image_2025-04-24_11-07-31-042.webp
ORGANIZER;CN="Cine Leros":MAILTO:leros-cinema@leros.gr
END:VEVENT
BEGIN:VEVENT
DTSTART;TZID=UTC:20250424T193000
DTEND;TZID=UTC:20250430T210000
DTSTAMP:20260421T175755
CREATED:20250424T084007Z
LAST-MODIFIED:20250424T084008Z
UID:46788-1745523000-1746046800@the-leros-way.com
SUMMARY:Movie of the week: THE AMATEUR
DESCRIPTION:Thursday 24/4-Tuesday 30/4 \nWednesday\, Saturday\, Monday\, Thursday- 19:30 \nFriday\, Sunday\, Tuesday – 21:15
URL:https://the-leros-way.com/event/movie-of-the-week-the-amateur/
LOCATION:Leros Cinema\, Municipal Cinema Leros\, Leros\, 85400\, Greece
CATEGORIES:Movie
ATTACH;FMTTYPE=image/jpeg:https://the-leros-way.com/wp-content/uploads/2025/04/viber_image_2025-04-24_11-07-31-403.jpg
ORGANIZER;CN="Cine Leros":MAILTO:leros-cinema@leros.gr
END:VEVENT
BEGIN:VEVENT
DTSTART;TZID=UTC:20250424T193000
DTEND;TZID=UTC:20250430T213000
DTSTAMP:20260421T175755
CREATED:20250424T082700Z
LAST-MODIFIED:20250424T083100Z
UID:46783-1745523000-1746048600@the-leros-way.com
SUMMARY:Movie of the week: UNTIL DAWN
DESCRIPTION:Thursday (24.4)\, Saturday (26.4)\, Monday (28.4)\, Wednesday (30.4) – 19:30 \nFriday (25.4)\, Sunday (27.4)\, Tuesday (29.4) – 21:15 \n 
URL:https://the-leros-way.com/event/movie-of-the-week-until-dawn/
LOCATION:Leros Cinema\, Municipal Cinema Leros\, Leros\, 85400\, Greece
CATEGORIES:Leros Cinema,Movie
ATTACH;FMTTYPE=image/jpeg:https://the-leros-way.com/wp-content/uploads/2025/04/viber_image_2025-04-24_11-07-31-846.jpg
ORGANIZER;CN="Cine Leros":MAILTO:leros-cinema@leros.gr
END:VEVENT
END:VCALENDAR