BEGIN:VCALENDAR
VERSION:2.0
PRODID:-//The Leros Way - ECPv6.15.13.1//NONSGML v1.0//EN
CALSCALE:GREGORIAN
METHOD:PUBLISH
X-WR-CALNAME:The Leros Way
X-ORIGINAL-URL:https://the-leros-way.com
X-WR-CALDESC:Events for The Leros Way
REFRESH-INTERVAL;VALUE=DURATION:PT1H
X-Robots-Tag:noindex
X-PUBLISHED-TTL:PT1H
BEGIN:VTIMEZONE
TZID:UTC
BEGIN:STANDARD
TZOFFSETFROM:+0000
TZOFFSETTO:+0000
TZNAME:UTC
DTSTART:20240101T000000
END:STANDARD
END:VTIMEZONE
BEGIN:VEVENT
DTSTART;TZID=UTC:20250404T210000
DTEND;TZID=UTC:20250406T230000
DTSTAMP:20260421T191938
CREATED:20250401T094503Z
LAST-MODIFIED:20250401T094504Z
UID:46461-1743800400-1743980400@the-leros-way.com
SUMMARY:Theater Play: "The Grooms of Hapiness"
DESCRIPTION:The Leros Theatrical Group presents:\n“The Grooms of Hapiness” – A comedy by Nikos Tsiforos & Polyvios Vassiliadis \nA well-known play from Greek cinema that humorously portrays the flaws of Greek society and the strict family traditions of the past. Get ready for lots of laughter\, comedic situations\, fast-paced action\, and hilarious dialogues that drive the story forward! \n📅 Friday\, Saturday\, and Sunday\n🗓 April 4\, 5\, and 6\n🕘 Time: 21:00\n📍 Municipal Cinema of Lakki \nCast :\nNikos Fokas\, Maria Tsigada\, Maria Polonyfi\, Elena Pentziki\, Eftychia Chondrogianou\, Nikos Foundoukakis\, Nasos Lelekis\, Argyro Giannakou\, Odysseas Kourevelis. \nProduction Team:\n🎭 Director: Lefteris Diamantaras\n🎨 Set Design: Rena Filippidou\n👗 Costumes: Birgit Wilder & Rena Filippidou\n🎵 Music Supervision: Ria Giannaros\n💃 Choreography: Emmanouela Petroutzakou\n📖 Prompter: Nitsa Garyfalli\n💇 Hair Styling: Chrysoula Sifouniou\n🎭 Stage Assistant: Irene Dinaki\n🎼 Music Operation: George Drakos\n💡 Lighting Operation: Ria Kasti\n🎥 Filming: Ioanna Asmeniadou-Fokas \n🌟 Join us for an unforgettable theatrical experience filled with laughter and joy! 🌟
URL:https://the-leros-way.com/event/theater-play-the-grooms-of-hapiness/
LOCATION:Leros Cinema\, Municipal Cinema Leros\, Leros\, 85400\, Greece
CATEGORIES:Leros Cinema,Theater Play
ATTACH;FMTTYPE=image/webp:https://the-leros-way.com/wp-content/uploads/2025/04/487598916_9760777317277194_7553998652598240474_n.webp
END:VEVENT
BEGIN:VEVENT
DTSTART;TZID=UTC:20250406T110000
DTEND;TZID=UTC:20250406T140000
DTSTAMP:20260421T191938
CREATED:20250405T061346Z
LAST-MODIFIED:20250405T061347Z
UID:46561-1743937200-1743948000@the-leros-way.com
SUMMARY:We walk for the Autism
DESCRIPTION:WALK FOR AUTISM\nSunday\, April 6\nAgia Marina | 11:00 AM \nPROGRAM: \n\nGathering time: 10:50 – 11:00 AM at the port of Agia Marina.\n11:00 AM – We will all begin the walk together from the port to Agia Aikaterini (near the gas station) and return for fun and engaging activities.\n\nActivities include: \n\nColorful Melodies\nHappy Balloons\nThe Necklace of Love\nYoga & Movement Games\nMy Special Keychain\nThe Little Gardener\nFace Painting\nBalloon Creations\n\nWeather note: According to the forecast\, light rain is expected after 12:00 PM.\nPlease bring a small umbrella just in case.
URL:https://the-leros-way.com/event/we-walk-for-the-autism/
LOCATION:Bourtzi\, Agia Marina\, Δωρεάν χώρος στάθμευσης\, Leros\, 854 00\, Greece
CATEGORIES:Special Event
ATTACH;FMTTYPE=image/webp:https://the-leros-way.com/wp-content/uploads/2025/03/484351715_10233003423083765_1885467718278241301_n-1.webp
ORGANIZER;CN="Leros Municipality":MAILTO:info@dopaisap.gr
END:VEVENT
END:VCALENDAR