BEGIN:VCALENDAR
VERSION:2.0
PRODID:-//The Leros Way - ECPv6.15.20//NONSGML v1.0//EN
CALSCALE:GREGORIAN
METHOD:PUBLISH
X-WR-CALNAME:The Leros Way
X-ORIGINAL-URL:https://the-leros-way.com
X-WR-CALDESC:Events for The Leros Way
REFRESH-INTERVAL;VALUE=DURATION:PT1H
X-Robots-Tag:noindex
X-PUBLISHED-TTL:PT1H
BEGIN:VTIMEZONE
TZID:UTC
BEGIN:STANDARD
TZOFFSETFROM:+0000
TZOFFSETTO:+0000
TZNAME:UTC
DTSTART:20240101T000000
END:STANDARD
END:VTIMEZONE
BEGIN:VEVENT
DTSTART;TZID=UTC:20250331T090000
DTEND;TZID=UTC:20250401T210000
DTSTAMP:20260425T114430
CREATED:20250312T111722Z
LAST-MODIFIED:20250312T112400Z
UID:45966-1743411600-1743541200@the-leros-way.com
SUMMARY:Easter Bazaar organized by "Agios Savvas" Association
DESCRIPTION:Office of the “Saint Savvas the New” Association – Platanos\, Markopoulou Street\, 2\nTime: 9:00 AM to 9:00 PM \nIt is beautiful for a person to have allies in the journey of life. \nThroughout this effort and work\, you stand beside us as companions and supporters in love for our fellow human beings and solidarity.\nThis work is carried out with your love\, willingness\, contribution\, and solidarity. \nA project primarily from the community for the community. \nWe invite you to love and support the image of God\, our fellow human being. \nWe invite you to become the security and ally of those who suffer\, the sick\, the children\, and the elderly. \nOnce again\, be the helping hand that gives\, so we can truly experience the Passion and Resurrection of our Lord. \nNo one is alone in difficult times. Love never fails. \nFor information: 6981877147 \n\nLet me know if you need any modifications!
URL:https://the-leros-way.com/event/easter-bazaar-organized-by-agios-savvas-association/
LOCATION:Agios Savvas Association\, 5V34+5Q Agia Marina\, 85400\, Greece
CATEGORIES:Special Event
ATTACH;FMTTYPE=image/webp:https://the-leros-way.com/wp-content/uploads/2025/03/viber_image_2025-03-12_13-01-36-133-1.webp
END:VEVENT
END:VCALENDAR