BEGIN:VCALENDAR
VERSION:2.0
PRODID:-//The Leros Way - ECPv6.15.13.1//NONSGML v1.0//EN
CALSCALE:GREGORIAN
METHOD:PUBLISH
X-ORIGINAL-URL:https://the-leros-way.com
X-WR-CALDESC:Events for The Leros Way
REFRESH-INTERVAL;VALUE=DURATION:PT1H
X-Robots-Tag:noindex
X-PUBLISHED-TTL:PT1H
BEGIN:VTIMEZONE
TZID:UTC
BEGIN:STANDARD
TZOFFSETFROM:+0000
TZOFFSETTO:+0000
TZNAME:UTC
DTSTART:20240101T000000
END:STANDARD
END:VTIMEZONE
BEGIN:VEVENT
DTSTART;TZID=UTC:20250227T190000
DTEND;TZID=UTC:20250305T210000
DTSTAMP:20260423T093838
CREATED:20250227T070546Z
LAST-MODIFIED:20250227T070547Z
UID:45829-1740682800-1741208400@the-leros-way.com
SUMMARY:The Movie of the Week: Βritget Jones-The Return
DESCRIPTION:27/02-05/03 \nEvery Day 19:00
URL:https://the-leros-way.com/event/the-movie-of-the-week-%ce%b2ritget-jones-the-return/
LOCATION:Leros Cinema\, Municipal Cinema Leros\, Leros\, 85400\, Greece
CATEGORIES:Movie
ATTACH;FMTTYPE=image/jpeg:https://the-leros-way.com/wp-content/uploads/2025/02/fdaf4565-71e5-42a2-97b4-6e04a7fca459.jpeg
ORGANIZER;CN="Leros Municipality":MAILTO:info@dopaisap.gr
END:VEVENT
BEGIN:VEVENT
DTSTART;TZID=UTC:20250227T211500
DTEND;TZID=UTC:20250305T230000
DTSTAMP:20260423T093838
CREATED:20250227T070953Z
LAST-MODIFIED:20250227T070954Z
UID:45834-1740690900-1741215600@the-leros-way.com
SUMMARY:The Movie of the Week: Last Breathe
DESCRIPTION:Every day : 21:15 \n27/02-05/03/25
URL:https://the-leros-way.com/event/the-movie-of-the-week-last-breathe/
LOCATION:Leros Cinema\, Municipal Cinema Leros\, Leros\, 85400\, Greece
CATEGORIES:Movie
ATTACH;FMTTYPE=image/jpeg:https://the-leros-way.com/wp-content/uploads/2025/02/f939f814-1a91-4bf2-94f9-a063c2d6a71d.jpeg
ORGANIZER;CN="Leros Municipality":MAILTO:info@dopaisap.gr
END:VEVENT
BEGIN:VEVENT
DTSTART;TZID=UTC:20250228T110000
DTEND;TZID=UTC:20250228T120000
DTSTAMP:20260423T093838
CREATED:20250217T145635Z
LAST-MODIFIED:20250227T072448Z
UID:45618-1740740400-1740744000@the-leros-way.com
SUMMARY:Leros Protest: Justice for Tempi Train Crash Victims
DESCRIPTION:Leros residents will be protesting in solidarity with those demanding justice for the Tempi train crash. We’ll meet in front of the theatre.\nFor those of you who are not familiar with this tragic event: On February 28\, 2023\, a passenger train carrying mostly students collided with a freight train near Tempi\, in central Greece.\nThis devastating accident\, and the subsequent fire\, resulted in the loss of 57 lives\, revealing significant safety deficiencies in the Greek railway system. 2 \nMany believe the disaster was preventable. The public is demanding accountability from those responsible and significant improvements to railway safety.\nPlease note\, many shops will be closed until after the protest.\nFor more background\, here’s a short video: https://www.tiktok.com/@arutejozbrp/video/7475749674402565398?_r=1&_t=ZN-8uG6xyOvsPu \n  \n 
URL:https://the-leros-way.com/event/citizens-meeting-demanding-justice-for-the-crime-in-tempi/
LOCATION:Leros Cinema\, Municipal Cinema Leros\, Leros\, 85400\, Greece
ATTACH;FMTTYPE=image/webp:https://the-leros-way.com/wp-content/uploads/2025/02/viber_image_2025-02-17_16-51-39-108.webp
ORGANIZER;CN="The Leros Way":MAILTO:info@the-leros-way.com
END:VEVENT
END:VCALENDAR