BEGIN:VCALENDAR
VERSION:2.0
PRODID:-//The Leros Way - ECPv6.15.20//NONSGML v1.0//EN
CALSCALE:GREGORIAN
METHOD:PUBLISH
X-WR-CALNAME:The Leros Way
X-ORIGINAL-URL:https://the-leros-way.com
X-WR-CALDESC:Events for The Leros Way
REFRESH-INTERVAL;VALUE=DURATION:PT1H
X-Robots-Tag:noindex
X-PUBLISHED-TTL:PT1H
BEGIN:VTIMEZONE
TZID:UTC
BEGIN:STANDARD
TZOFFSETFROM:+0000
TZOFFSETTO:+0000
TZNAME:UTC
DTSTART:20240101T000000
END:STANDARD
END:VTIMEZONE
BEGIN:VEVENT
DTSTART;TZID=UTC:20250220T190000
DTEND;TZID=UTC:20250226T230000
DTSTAMP:20260425T185833
CREATED:20250220T073948Z
LAST-MODIFIED:20250220T073949Z
UID:45781-1740078000-1740610800@the-leros-way.com
SUMMARY:The Movie of the Week: Captain Amerika
DESCRIPTION:Thursday-Saturday-Monday-Wednesday time 21:15 \nFriday-Sunday-Tuesday time 19:00
URL:https://the-leros-way.com/event/the-movie-of-the-week-captain-amerika/
LOCATION:Leros Cinema\, Municipal Cinema Leros\, Leros\, 85400\, Greece
CATEGORIES:Movie
ATTACH;FMTTYPE=image/jpeg:https://the-leros-way.com/wp-content/uploads/2025/02/d29eb7e5-0c2e-4081-b4cc-8241e2203b03.jpg
ORGANIZER;CN="Leros Municipality":MAILTO:info@dopaisap.gr
END:VEVENT
BEGIN:VEVENT
DTSTART;TZID=UTC:20250220T190000
DTEND;TZID=UTC:20250226T230000
DTSTAMP:20260425T185833
CREATED:20250220T074524Z
LAST-MODIFIED:20250220T074525Z
UID:45786-1740078000-1740610800@the-leros-way.com
SUMMARY:Τhe Μovie of the week: Α complete unknown
DESCRIPTION:Thursday-Saturday-Monday-Wednesday time 19:00 \nFriday-Sunday-Tuesday time 21:15
URL:https://the-leros-way.com/event/%cf%84he-%ce%bcovie-of-the-week-%ce%b1-complete-unknown/
LOCATION:Leros Cinema\, Municipal Cinema Leros\, Leros\, 85400\, Greece
CATEGORIES:Leros Cinema,Movie
ATTACH;FMTTYPE=image/jpeg:https://the-leros-way.com/wp-content/uploads/2025/02/aa071985-81ac-4f44-82fe-b0de3fc7841e.jpg
ORGANIZER;CN="Leros Municipality":MAILTO:info@dopaisap.gr
END:VEVENT
BEGIN:VEVENT
DTSTART;TZID=UTC:20250222T210000
DTEND;TZID=UTC:20250222T233000
DTSTAMP:20260425T185833
CREATED:20250221T150607Z
LAST-MODIFIED:20250221T150608Z
UID:45814-1740258000-1740267000@the-leros-way.com
SUMMARY:Greek Live Musik-Restaurant Navarone
DESCRIPTION:Saturday 21:00 \nGreek live musik by 3 talented musicians
URL:https://the-leros-way.com/event/greek-live-musik-restaurant-navarone/
LOCATION:Νavarone Estate\, https://maps.app.goo.gl/9SikDv2qbo2YEFs38\, Leros\, 85400\, Greece
CATEGORIES:Dancing,Music
ATTACH;FMTTYPE=image/jpeg:https://the-leros-way.com/wp-content/uploads/2025/02/162fb9bd-757c-4ddb-a56f-bd338c2cfe72-1.jpg
END:VEVENT
END:VCALENDAR