BEGIN:VCALENDAR
VERSION:2.0
PRODID:-//The Leros Way - ECPv6.15.20//NONSGML v1.0//EN
CALSCALE:GREGORIAN
METHOD:PUBLISH
X-ORIGINAL-URL:https://the-leros-way.com
X-WR-CALDESC:Events for The Leros Way
REFRESH-INTERVAL;VALUE=DURATION:PT1H
X-Robots-Tag:noindex
X-PUBLISHED-TTL:PT1H
BEGIN:VTIMEZONE
TZID:UTC
BEGIN:STANDARD
TZOFFSETFROM:+0000
TZOFFSETTO:+0000
TZNAME:UTC
DTSTART:20240101T000000
END:STANDARD
END:VTIMEZONE
BEGIN:VEVENT
DTSTART;TZID=UTC:20250219T173000
DTEND;TZID=UTC:20250219T193000
DTSTAMP:20260425T130550
CREATED:20250217T150303Z
LAST-MODIFIED:20250217T150304Z
UID:45623-1739986200-1739993400@the-leros-way.com
SUMMARY:Κaragiozis Show in Leros
DESCRIPTION:Cinema Theater time 17:30 \n19/02/2025 \nΤicket fee: 7€
URL:https://the-leros-way.com/event/%ce%baaragiozis-show-in-leros/
LOCATION:Leros Cinema\, Municipal Cinema Leros\, Leros\, 85400\, Greece
ATTACH;FMTTYPE=image/webp:https://the-leros-way.com/wp-content/uploads/2025/02/viber_image_2025-02-17_16-45-26-226.webp
ORGANIZER;CN="The Leros Way":MAILTO:infor@the-leros-way.com
END:VEVENT
END:VCALENDAR