BEGIN:VCALENDAR
VERSION:2.0
PRODID:-//The Leros Way - ECPv6.15.20//NONSGML v1.0//EN
CALSCALE:GREGORIAN
METHOD:PUBLISH
X-WR-CALNAME:The Leros Way
X-ORIGINAL-URL:https://the-leros-way.com
X-WR-CALDESC:Events for The Leros Way
REFRESH-INTERVAL;VALUE=DURATION:PT1H
X-Robots-Tag:noindex
X-PUBLISHED-TTL:PT1H
BEGIN:VTIMEZONE
TZID:UTC
BEGIN:STANDARD
TZOFFSETFROM:+0000
TZOFFSETTO:+0000
TZNAME:UTC
DTSTART:20240101T000000
END:STANDARD
END:VTIMEZONE
BEGIN:VEVENT
DTSTART;TZID=UTC:20250208T213000
DTEND;TZID=UTC:20250208T230000
DTSTAMP:20260423T160433
CREATED:20250205T161951Z
LAST-MODIFIED:20250205T161953Z
UID:45379-1739050200-1739055600@the-leros-way.com
SUMMARY:Karaoke night
DESCRIPTION:
URL:https://the-leros-way.com/event/karaoke-night/
LOCATION:Paradiso Cafe Beach\, Paradiso Cafe\, Leros\, 85400\, Greece
CATEGORIES:Dancing
ATTACH;FMTTYPE=image/jpeg:https://the-leros-way.com/wp-content/uploads/2025/02/475858027_2059129551197960_4257757697829804721_n-1.jpg
ORGANIZER;CN="Leros Municipality":MAILTO:info@dopaisap.gr
END:VEVENT
END:VCALENDAR