BEGIN:VCALENDAR
VERSION:2.0
PRODID:-//The Leros Way - ECPv6.15.20//NONSGML v1.0//EN
CALSCALE:GREGORIAN
METHOD:PUBLISH
X-ORIGINAL-URL:https://the-leros-way.com
X-WR-CALDESC:Events for The Leros Way
REFRESH-INTERVAL;VALUE=DURATION:PT1H
X-Robots-Tag:noindex
X-PUBLISHED-TTL:PT1H
BEGIN:VTIMEZONE
TZID:UTC
BEGIN:STANDARD
TZOFFSETFROM:+0000
TZOFFSETTO:+0000
TZNAME:UTC
DTSTART:20240101T000000
END:STANDARD
END:VTIMEZONE
BEGIN:VEVENT
DTSTART;TZID=UTC:20250202T093000
DTEND;TZID=UTC:20250202T130000
DTSTAMP:20260425T215538
CREATED:20250131T075931Z
LAST-MODIFIED:20250131T075932Z
UID:45352-1738488600-1738501200@the-leros-way.com
SUMMARY:Hiking at Moumplogourna Area
DESCRIPTION:  \nHiking Schedule | Sunday 9:30 AM \n📍 Meeting Point: Kamara – Mr. Themelaros’ Workshop\n⏰ Time: 9:30 AM\n📅 Date: Sunday\n🌦 The hike will take place weather permitting \n🎯 Route:\nWe will hike up to the Diplogourna area\, a beautiful trail offering panoramic views of the island! Along the way\, we will come across various military exhibits\, adding historical interest to our journey. \n👟 Wear comfortable clothing & hiking shoes\n💧 Don’t forget water & a good mood! \nSee you on the trail!
URL:https://the-leros-way.com/event/hiking-at-moumplogourna-area/
LOCATION:LEROS\, Katafigio Agrias Zois Koulouki - Merikia - Fitorio\, Ag. Marina\, Greece\, 854 00\, Greece
CATEGORIES:Guided Tour
ATTACH;FMTTYPE=image/jpeg:https://the-leros-way.com/wp-content/uploads/2025/01/a8137202-61c1-413c-8227-f386706aef40.jpeg
END:VEVENT
END:VCALENDAR